BEGIN:VCALENDAR
VERSION:2.0
PRODID:-//Clean Rite Center - ECPv6.15.16.1//NONSGML v1.0//EN
CALSCALE:GREGORIAN
METHOD:PUBLISH
X-ORIGINAL-URL:https://www.cleanritecenter.com
X-WR-CALDESC:Events for Clean Rite Center
REFRESH-INTERVAL;VALUE=DURATION:PT1H
X-Robots-Tag:noindex
X-PUBLISHED-TTL:PT1H
BEGIN:VTIMEZONE
TZID:Pacific/Easter
BEGIN:STANDARD
TZOFFSETFROM:-0500
TZOFFSETTO:-0600
TZNAME:-06
DTSTART:20240407T030000
END:STANDARD
BEGIN:DAYLIGHT
TZOFFSETFROM:-0600
TZOFFSETTO:-0500
TZNAME:-05
DTSTART:20240908T040000
END:DAYLIGHT
BEGIN:STANDARD
TZOFFSETFROM:-0500
TZOFFSETTO:-0600
TZNAME:-06
DTSTART:20250406T030000
END:STANDARD
BEGIN:DAYLIGHT
TZOFFSETFROM:-0600
TZOFFSETTO:-0500
TZNAME:-05
DTSTART:20250907T040000
END:DAYLIGHT
BEGIN:STANDARD
TZOFFSETFROM:-0500
TZOFFSETTO:-0600
TZNAME:-06
DTSTART:20260405T030000
END:STANDARD
BEGIN:DAYLIGHT
TZOFFSETFROM:-0600
TZOFFSETTO:-0500
TZNAME:-05
DTSTART:20260906T040000
END:DAYLIGHT
BEGIN:STANDARD
TZOFFSETFROM:-0500
TZOFFSETTO:-0600
TZNAME:-06
DTSTART:20270404T030000
END:STANDARD
BEGIN:DAYLIGHT
TZOFFSETFROM:-0600
TZOFFSETTO:-0500
TZNAME:-05
DTSTART:20270905T040000
END:DAYLIGHT
END:VTIMEZONE
BEGIN:VTIMEZONE
TZID:America/New_York
BEGIN:DAYLIGHT
TZOFFSETFROM:-0500
TZOFFSETTO:-0400
TZNAME:EDT
DTSTART:20240310T070000
END:DAYLIGHT
BEGIN:STANDARD
TZOFFSETFROM:-0400
TZOFFSETTO:-0500
TZNAME:EST
DTSTART:20241103T060000
END:STANDARD
BEGIN:DAYLIGHT
TZOFFSETFROM:-0500
TZOFFSETTO:-0400
TZNAME:EDT
DTSTART:20250309T070000
END:DAYLIGHT
BEGIN:STANDARD
TZOFFSETFROM:-0400
TZOFFSETTO:-0500
TZNAME:EST
DTSTART:20251102T060000
END:STANDARD
BEGIN:DAYLIGHT
TZOFFSETFROM:-0500
TZOFFSETTO:-0400
TZNAME:EDT
DTSTART:20260308T070000
END:DAYLIGHT
BEGIN:STANDARD
TZOFFSETFROM:-0400
TZOFFSETTO:-0500
TZNAME:EST
DTSTART:20261101T060000
END:STANDARD
END:VTIMEZONE
BEGIN:VTIMEZONE
TZID:America/Halifax
BEGIN:DAYLIGHT
TZOFFSETFROM:-0400
TZOFFSETTO:-0300
TZNAME:ADT
DTSTART:20240310T060000
END:DAYLIGHT
BEGIN:STANDARD
TZOFFSETFROM:-0300
TZOFFSETTO:-0400
TZNAME:AST
DTSTART:20241103T050000
END:STANDARD
BEGIN:DAYLIGHT
TZOFFSETFROM:-0400
TZOFFSETTO:-0300
TZNAME:ADT
DTSTART:20250309T060000
END:DAYLIGHT
BEGIN:STANDARD
TZOFFSETFROM:-0300
TZOFFSETTO:-0400
TZNAME:AST
DTSTART:20251102T050000
END:STANDARD
BEGIN:DAYLIGHT
TZOFFSETFROM:-0400
TZOFFSETTO:-0300
TZNAME:ADT
DTSTART:20260308T060000
END:DAYLIGHT
BEGIN:STANDARD
TZOFFSETFROM:-0300
TZOFFSETTO:-0400
TZNAME:AST
DTSTART:20261101T050000
END:STANDARD
END:VTIMEZONE
BEGIN:VEVENT
DTSTART;TZID=Pacific/Easter:20260125T110000
DTEND;TZID=Pacific/Easter:20260125T130000
DTSTAMP:20260423T154510
CREATED:20260125T174742Z
LAST-MODIFIED:20260125T174859Z
UID:2311-1769338800-1769346000@www.cleanritecenter.com
SUMMARY:FREE WASH Event sponsored by Fabric Health
DESCRIPTION:THIS EVENT HAS BEEN RESCHEUDULED DUE TO WEATHER CONDITIONS. DATE: March 1st\n\nClean Rite Center is teaming up with Fabric Health to bring you something fresh – Free Wash Events at two of our laundromat locations! We believe everyone deserves clean laundry and access to important health resources. \n  \nHow It Works: \nRSVP at one of our participating locations on event day. \nFill out a short\, confidential health survey with a Fabric Health team member. \nGet a free wash on us — it’s that simple!
URL:https://www.cleanritecenter.com/event/free-wash-sponsored-by-fabric-health-jan-25/
LOCATION:Clean Rite Center – Baltimore\, MD\, 4618 A Edmondson Ave\, Baltimore\, MD\, 21229\, United States
CATEGORIES:MD
END:VEVENT
BEGIN:VEVENT
DTSTART;TZID=Pacific/Easter:20251214T090000
DTEND;TZID=Pacific/Easter:20251214T170000
DTSTAMP:20260423T154510
CREATED:20251112T144629Z
LAST-MODIFIED:20251214T144850Z
UID:2174-1765702800-1765731600@www.cleanritecenter.com
SUMMARY:FREE WASH Event sponsored by Fabric Health
DESCRIPTION:THIS EVENT HAS BEEN RESCHEUDULED DUE TO WEATHER CONDITIONS. DATE COMING SOON!\n\nClean Rite Center is teaming up with Fabric Health to bring you something fresh – Free Wash Events at two of our laundromat locations! We believe everyone deserves clean laundry and access to important health resources. \n  \nHow It Works: \nRSVP at one of our participating locations on event day. \nFill out a short\, confidential health survey with a Fabric Health team member. \nGet a free wash on us — it’s that simple!
URL:https://www.cleanritecenter.com/event/free-wash-sponsored-by-fabric-health-dec-14/
LOCATION:Clean Rite Center – Baltimore\, MD\, 4618 A Edmondson Ave\, Baltimore\, MD\, 21229\, United States
CATEGORIES:FREE Wash Event,MD
END:VEVENT
BEGIN:VEVENT
DTSTART;TZID=Pacific/Easter:20251208T090000
DTEND;TZID=Pacific/Easter:20251208T170000
DTSTAMP:20260423T154510
CREATED:20251112T183702Z
LAST-MODIFIED:20251112T191002Z
UID:2225-1765184400-1765213200@www.cleanritecenter.com
SUMMARY:Clean Rite Center offers Medicaid\, SNAP benefits assistance with Fabric Health - Dec 8
DESCRIPTION:We believe everyone deserves clean laundry and access to important health resources. Families in need will have an opportunities to get connected to much-needed services while they wait for their laundry. \nFabric Health is collaborating with Clean Rite Center laundromat to provide community members with access to health\, food benefits\, and more – while they are waiting on laundry with their families.
URL:https://www.cleanritecenter.com/event/fabric-health-medicaid-snap-benefits-assistance-dec-8/
LOCATION:Clean Rite Center – Baltimore\, MD\, 4618 A Edmondson Ave\, Baltimore\, MD\, 21229\, United States
CATEGORIES:MD
END:VEVENT
BEGIN:VEVENT
DTSTART;TZID=Pacific/Easter:20251128T090000
DTEND;TZID=Pacific/Easter:20251128T170000
DTSTAMP:20260423T154510
CREATED:20251112T183043Z
LAST-MODIFIED:20251113T165049Z
UID:2223-1764320400-1764349200@www.cleanritecenter.com
SUMMARY:Clean Rite Center offers Medicaid\, SNAP benefits assistance with Fabric Health - Nov 28
DESCRIPTION:We believe everyone deserves clean laundry and access to important health resources. Families in need will have an opportunities to get connected to much-needed services while they wait for their laundry. \nFabric Health is collaborating with Clean Rite Center laundromat to provide community members with access to health\, food benefits\, and more – while they are waiting on laundry with their families.
URL:https://www.cleanritecenter.com/event/fabric-health-medicaid-snap-benefits-assistance-nov-28/
LOCATION:Clean Rite Center – Gwynn Oak\, MD\, 7017 Liberty Road\, Gwynn Oak\, NY\, 21207\, United States
CATEGORIES:MD
END:VEVENT
BEGIN:VEVENT
DTSTART;TZID=Pacific/Easter:20251126T090000
DTEND;TZID=Pacific/Easter:20251126T170000
DTSTAMP:20260423T154510
CREATED:20251112T182722Z
LAST-MODIFIED:20251112T182722Z
UID:2221-1764147600-1764176400@www.cleanritecenter.com
SUMMARY:Clean Rite Center offers Medicaid\, SNAP benefits assistance with Fabric Health - Nov 26
DESCRIPTION:We believe everyone deserves clean laundry and access to important health resources. Families in need will have an opportunities to get connected to much-needed services while they wait for their laundry. \nFabric Health is collaborating with Clean Rite Center laundromat to provide community members with access to health\, food benefits\, and more – while they are waiting on laundry with their families.
URL:https://www.cleanritecenter.com/event/fabric-health-medicaid-snap-benefits-assistance-nov-25-2/
LOCATION:Clean Rite Center – Gwynn Oak\, MD\, 7017 Liberty Road\, Gwynn Oak\, NY\, 21207\, United States
CATEGORIES:MD
END:VEVENT
BEGIN:VEVENT
DTSTART;VALUE=DATE:20251125
DTEND;VALUE=DATE:20251126
DTSTAMP:20260423T154510
CREATED:20251112T182151Z
LAST-MODIFIED:20251112T182812Z
UID:2207-1764028800-1764115199@www.cleanritecenter.com
SUMMARY:Clean Rite Center offers Medicaid\, SNAP benefits assistance with Fabric Health - Nov 25
DESCRIPTION:We believe everyone deserves clean laundry and access to important health resources. Families in need will have an opportunities to get connected to much-needed services while they wait for their laundry. \nFabric Health is collaborating with Clean Rite Center laundromat to provide community members with access to health\, food benefits\, and more – while they are waiting on laundry with their families.
URL:https://www.cleanritecenter.com/event/fabric-health-medicaid-snap-benefits-assistance-nov-25/
LOCATION:Clean Rite Center – Baltimore\, MD\, 4618 A Edmondson Ave\, Baltimore\, MD\, 21229\, United States
CATEGORIES:MD
END:VEVENT
BEGIN:VEVENT
DTSTART;VALUE=DATE:20251124
DTEND;VALUE=DATE:20251202
DTSTAMP:20260423T154510
CREATED:20251114T004754Z
LAST-MODIFIED:20251126T185513Z
UID:2236-1763942400-1764633599@www.cleanritecenter.com
SUMMARY:Exclusive Black Friday Laundry Deals
DESCRIPTION:Don’t Get Buried Under Bulky Laundry! Get ready for our biggest Black Friday savings on items like comforters\, blankets\, jackets\, and more. \nLet us handle the bulky laundry so you can focus on what really matters this Thanksgiving season: family\, friends\, and fun. \n $10 OFF your next 2 orders! When you wash:\nBlankets\, Comforters\, Curtains\, Tablecloths\, Pillows\, Bathmats\, and more!\n– FREE delivery back to you – available at select locations \n– Customizable services and bundles to fit your laundry needs \n– Fast\, stress-free service to make laundry easier than ever \nWalk-in! Use code: “BULKY” to claim your perfect pick-me-up for holiday hosting or snuggling in. T&C Apply.
URL:https://www.cleanritecenter.com/event/exclusive-black-friday-laundry-deals/
LOCATION:New York\, NY\, United States
CATEGORIES:MD,NY,NY - Bronx,NY - Brooklyn,NY - Manhattan,NY - Queens,NY - Staten Island,OH,PA
ATTACH;FMTTYPE=image/jpeg:https://www.cleanritecenter.com/wp-content/uploads/2025/11/1.jpg
END:VEVENT
BEGIN:VEVENT
DTSTART;VALUE=DATE:20251124
DTEND;VALUE=DATE:20251125
DTSTAMP:20260423T154510
CREATED:20251112T182045Z
LAST-MODIFIED:20251112T182420Z
UID:2205-1763942400-1764028799@www.cleanritecenter.com
SUMMARY:Clean Rite Center offers Medicaid\, SNAP benefits assistance with Fabric Health - Nov 24
DESCRIPTION:We believe everyone deserves clean laundry and access to important health resources. Families in need will have an opportunities to get connected to much-needed services while they wait for their laundry. \nFabric Health is collaborating with Clean Rite Center laundromat to provide community members with access to health\, food benefits\, and more – while they are waiting on laundry with their families.
URL:https://www.cleanritecenter.com/event/fabric-health-medicaid-snap-benefits-assistance-nov-24-2/
LOCATION:Clean Rite Center – Baltimore\, MD\, 4618 A Edmondson Ave\, Baltimore\, MD\, 21229\, United States
CATEGORIES:MD
END:VEVENT
BEGIN:VEVENT
DTSTART;TZID=Pacific/Easter:20251119T090000
DTEND;TZID=Pacific/Easter:20251119T170000
DTSTAMP:20260423T154510
CREATED:20251112T175626Z
LAST-MODIFIED:20251112T200605Z
UID:2199-1763542800-1763571600@www.cleanritecenter.com
SUMMARY:Clean Rite Center offers Medicaid\, SNAP benefits assistance with Fabric Health - Nov 19
DESCRIPTION:We believe everyone deserves clean laundry and access to important health resources. Families in need will have an opportunities to get connected to much-needed services while they wait for their laundry. \nFabric Health is collaborating with Clean Rite Center laundromat to provide community members with access to health\, food benefits\, and more – while they are waiting on laundry with their families.
URL:https://www.cleanritecenter.com/event/fabric-health-medicaid-snap-benefits-assistance-nov-19/
LOCATION:Clean Rite Center – Gwynn Oak\, MD\, 7017 Liberty Road\, Gwynn Oak\, NY\, 21207\, United States
CATEGORIES:MD
END:VEVENT
BEGIN:VEVENT
DTSTART;TZID=Pacific/Easter:20251118T090000
DTEND;TZID=Pacific/Easter:20251118T170000
DTSTAMP:20260423T154510
CREATED:20251112T174853Z
LAST-MODIFIED:20251112T182328Z
UID:2192-1763456400-1763485200@www.cleanritecenter.com
SUMMARY:Clean Rite Center offers Medicaid\, SNAP benefits assistance with Fabric Health - Nov 18
DESCRIPTION:We believe everyone deserves clean laundry and access to important health resources. Families in need will have an opportunities to get connected to much-needed services while they wait for their laundry. \nFabric Health is collaborating with Clean Rite Center laundromat to provide community members with access to health\, food benefits\, and more – while they are waiting on laundry with their families.
URL:https://www.cleanritecenter.com/event/fabric-health-medicaid-snap-benefits-assistance-nov-18/
LOCATION:Clean Rite Center – Baltimore\, MD\, 4618 A Edmondson Ave\, Baltimore\, MD\, 21229\, United States
CATEGORIES:MD
END:VEVENT
BEGIN:VEVENT
DTSTART;TZID=Pacific/Easter:20251116T113000
DTEND;TZID=Pacific/Easter:20251116T140000
DTSTAMP:20260423T154510
CREATED:20251112T141307Z
LAST-MODIFIED:20251114T200512Z
UID:2170-1763292600-1763301600@www.cleanritecenter.com
SUMMARY:FREE WASH Event sponsored by Fabric Health - Nov 16
DESCRIPTION:7017 Liberty Rd\, Gwynn Oak\, MD 21207\nClean Rite Center is teaming up with Fabric Health to bring you something fresh – Free Wash Events at two of our laundromat locations! We believe everyone deserves clean laundry and access to important health resources. \n  \nHOW IT WORKS:\nRSVP to enjoy at our participating locations on event day. \nFill out a short\, confidential health survey with a Fabric Health team member. \nGet a free wash on us — it’s that simple! \n  \nABOUT FABRIC HEALTH\n\n\nFabric Health connects families with the health benefits and services they need — right in places they already go\, like your local laundromat. Their team is friendly\, trained\, and here to help with questions about insurance\, appointments\, and more. Learn more about them here.
URL:https://www.cleanritecenter.com/event/free-wash-sponsored-by-fabric-health-nov-16/
LOCATION:Clean Rite Center – Gwynn Oak\, MD\, 7017 Liberty Road\, Gwynn Oak\, NY\, 21207\, United States
CATEGORIES:FREE Wash Event,MD
ATTACH;FMTTYPE=image/jpeg:https://www.cleanritecenter.com/wp-content/uploads/2025/11/Fabric-Health-Event-Website-Cover-1200-x-300-px-2048x512-1.jpg
END:VEVENT
BEGIN:VEVENT
DTSTART;TZID=Pacific/Easter:20251005T120000
DTEND;TZID=Pacific/Easter:20251005T140000
DTSTAMP:20260423T154510
CREATED:20251005T143351Z
LAST-MODIFIED:20251112T182550Z
UID:2177-1759665600-1759672800@www.cleanritecenter.com
SUMMARY:FREE WASH Event sponsored by Fabric Health - Oct 5
DESCRIPTION:Clean Rite Center is teaming up with Fabric Health to bring you something fresh – Free Wash Events at two of our laundromat locations! We believe everyone deserves clean laundry and access to important health resources. \n  \nHow It Works: \nRSVP at one of our participating locations on event day. \nFill out a short\, confidential health survey with a Fabric Health team member. \nGet a free wash on us — it’s that simple!
URL:https://www.cleanritecenter.com/event/free-wash-events-sponsored-by-fabric-health-oct-5/
LOCATION:Clean Rite Center – Baltimore\, MD\, 4618 A Edmondson Ave\, Baltimore\, MD\, 21229\, United States
CATEGORIES:MD
END:VEVENT
BEGIN:VEVENT
DTSTART;TZID=America/Halifax:20250817T120000
DTEND;TZID=America/Halifax:20250817T140000
DTSTAMP:20260423T154510
CREATED:20250729T163833Z
LAST-MODIFIED:20251112T182546Z
UID:1992-1755432000-1755439200@www.cleanritecenter.com
SUMMARY:FREE WASH Events sponsored by Fabric Health - Aug 17
DESCRIPTION:Clean Rite Center is teaming up with Fabric Health to bring you something fresh – Free Wash Events at two of our laundromat locations! We believe everyone deserves clean laundry and access to important health resources. \n  \nHow It Works: \nRSVP at one of our participating locations on event day. \nFill out a short\, confidential health survey with a Fabric Health team member. \nGet a free wash on us — it’s that simple!
URL:https://www.cleanritecenter.com/event/free-wash-sponsored-by-fabric-health/
LOCATION:Clean Rite Center – Baltimore\, MD\, 4618 A Edmondson Ave\, Baltimore\, MD\, 21229\, United States
CATEGORIES:MD
END:VEVENT
END:VCALENDAR